BEGIN:VCALENDAR
VERSION:2.0
PRODID:-//Schlossberghalle Wehingen - ECPv6.15.20//NONSGML v1.0//EN
CALSCALE:GREGORIAN
METHOD:PUBLISH
X-WR-CALNAME:Schlossberghalle Wehingen
X-ORIGINAL-URL:https://www.schlossberghalle.de
X-WR-CALDESC:Veranstaltungen für Schlossberghalle Wehingen
REFRESH-INTERVAL;VALUE=DURATION:PT1H
X-Robots-Tag:noindex
X-PUBLISHED-TTL:PT1H
BEGIN:VTIMEZONE
TZID:Europe/Berlin
BEGIN:DAYLIGHT
TZOFFSETFROM:+0100
TZOFFSETTO:+0200
TZNAME:CEST
DTSTART:20240331T010000
END:DAYLIGHT
BEGIN:STANDARD
TZOFFSETFROM:+0200
TZOFFSETTO:+0100
TZNAME:CET
DTSTART:20241027T010000
END:STANDARD
BEGIN:DAYLIGHT
TZOFFSETFROM:+0100
TZOFFSETTO:+0200
TZNAME:CEST
DTSTART:20250330T010000
END:DAYLIGHT
BEGIN:STANDARD
TZOFFSETFROM:+0200
TZOFFSETTO:+0100
TZNAME:CET
DTSTART:20251026T010000
END:STANDARD
BEGIN:DAYLIGHT
TZOFFSETFROM:+0100
TZOFFSETTO:+0200
TZNAME:CEST
DTSTART:20260329T010000
END:DAYLIGHT
BEGIN:STANDARD
TZOFFSETFROM:+0200
TZOFFSETTO:+0100
TZNAME:CET
DTSTART:20261025T010000
END:STANDARD
END:VTIMEZONE
BEGIN:VEVENT
DTSTART;TZID=Europe/Berlin:20250524T200000
DTEND;TZID=Europe/Berlin:20250524T213000
DTSTAMP:20260424T100428
CREATED:20240607T152535Z
LAST-MODIFIED:20250212T165811Z
UID:2332-1748116800-1748122200@www.schlossberghalle.de
SUMMARY:Hallo Nachbar! - Theater Lindenhof
DESCRIPTION:VORANKÜNDIGUNG\n\n\n\n\n\n\n\n\n\n\n\n\nzur Webseite des Theater Lindenhof\n\n\n\n\n\n\n\n\n\n\n\n\n\n\n\n\n\n\n\n\n\n\nHallo Nachbar! – Ein Blick über den Gartenzaun mit viel Musik!  \n\n\n\n„Es kann der Frömmste nicht in Frieden leben\, wenn es dem bösen Nachbar nicht gefällt“ sprach schon Wilhelm Tell in Schillers Drama. \n\n\n\nNachbarschaftsstreitigkeiten bilden den Boden für bodenlose Dramen. Und so springt ein Schauspieler-Quartett auf diese wundervolle Spielwiese und öffnet die Bühne für die Krittler\, Streithansel und Gartenzwerge. \n\n\n\nSie wagen sich mitten hinein in die Welt der Heckenscheren und hitzigen Zaungespräche\, der Sonnenanbeter und Sichtbarrieren\, der Feierabendbiere und Hasstiraden\, denn: Irgendwer mäht immer irgendwo! Nein\, Ruhezeiten werden nicht eingehalten\, sondern es wird musiziert und gesungen auf „Nachbar komm raus!“. \n\n\n\n\n\nTrailer\n\n\n\nAusgerüstet mit Klavier\, Gitarre\, Saxofon\, Trompete\, Klarinette\, Akkordeon und vielen Ukulelen schmettern die vier Akteure in „Hallo Nachbar!“ das Lied von der Niedertracht\, reißen sich los von der Lindenstraße um auf den Mond zu reisen\, bis endlich alle wieder auf dem eigentlich wunderbaren Planet Erde landen um festzustellen: Gute Nachbarschaft sollte hier und jetzt gelingen\, denn sie ist auch eine Frage des Überlebens der Menschheit. \n\n\n\n\nEs spielen: Berthold Biesinger\, Hannah Im Hof\, Wolfram Karrer\, Gerd PlankenhornKonzept: Heiner Kondschak und EnsembleInszenierung: Heiner KondschakMusikalische Leitung: Wolfram Karrer und Heiner KondschakBühne und Kostüme: Ilona LenkFotos: Richard Becker \n\n\n\n\n\nVorverkaufspreis: 19\,00 €\, ermäßigt: 12\,00 €Abendkasse: 22\,00 €\, ermäßigt: 12\,00 €Freie PlatzwahlHallenöffnung: 19:00 UhrSaal-Einlass: 19:30 UhrSnack-Angebot in der Pause \n\n\n\n\n\nTicket-Vorverkauf online und im Wehinger Rathaus (Kulturamt) während der Öffnungszeiten.
URL:https://www.schlossberghalle.de/event/hallo-nachbar-theater-lindenhof/
LOCATION:Schlossberghalle\, Wörthstraße 33\, Wehingen\, 78564\, Germany
CATEGORIES:Theater,Tickets
ATTACH;FMTTYPE=image/jpeg:https://www.schlossberghalle.de/wp-content/uploads/2024/06/event_banner.jpg
ORGANIZER;CN="Kulturverein Wehingen e.V.":MAILTO:info@kulturverein-wehingen.de
END:VEVENT
END:VCALENDAR