BEGIN:VCALENDAR
VERSION:2.0
PRODID:-//Schlossberghalle Wehingen - ECPv6.15.20//NONSGML v1.0//EN
CALSCALE:GREGORIAN
METHOD:PUBLISH
X-WR-CALNAME:Schlossberghalle Wehingen
X-ORIGINAL-URL:https://www.schlossberghalle.de
X-WR-CALDESC:Veranstaltungen für Schlossberghalle Wehingen
REFRESH-INTERVAL;VALUE=DURATION:PT1H
X-Robots-Tag:noindex
X-PUBLISHED-TTL:PT1H
BEGIN:VTIMEZONE
TZID:Europe/Berlin
BEGIN:DAYLIGHT
TZOFFSETFROM:+0100
TZOFFSETTO:+0200
TZNAME:CEST
DTSTART:20240331T010000
END:DAYLIGHT
BEGIN:STANDARD
TZOFFSETFROM:+0200
TZOFFSETTO:+0100
TZNAME:CET
DTSTART:20241027T010000
END:STANDARD
BEGIN:DAYLIGHT
TZOFFSETFROM:+0100
TZOFFSETTO:+0200
TZNAME:CEST
DTSTART:20250330T010000
END:DAYLIGHT
BEGIN:STANDARD
TZOFFSETFROM:+0200
TZOFFSETTO:+0100
TZNAME:CET
DTSTART:20251026T010000
END:STANDARD
BEGIN:DAYLIGHT
TZOFFSETFROM:+0100
TZOFFSETTO:+0200
TZNAME:CEST
DTSTART:20260329T010000
END:DAYLIGHT
BEGIN:STANDARD
TZOFFSETFROM:+0200
TZOFFSETTO:+0100
TZNAME:CET
DTSTART:20261025T010000
END:STANDARD
END:VTIMEZONE
BEGIN:VEVENT
DTSTART;TZID=Europe/Berlin:20250405T150000
DTEND;TZID=Europe/Berlin:20250406T020000
DTSTAMP:20260424T112607
CREATED:20240827T131753Z
LAST-MODIFIED:20250112T150519Z
UID:2534-1743865200-1743904800@www.schlossberghalle.de
SUMMARY:Heuberg Brass Festival
DESCRIPTION:VORANKÜNDIGUNG\n\n\n\n\n\n\n\n\n\n\n\n\n\n\n\n\n\n\n\n\n\n\n\n\n\n\n\n\n\n\n\n\n\nDas Heuberg Brass Festival geht in die zweite Runde. Wieder mal könnt ihr mit uns einen ganzen Tag voller Blasmusik erleben.  \n\n\n\nWir laden euch herzlich ein\, am 05.04.2025 mit uns zu feiern. Nach dem fantastischen Start im Jahr 2023 legen wir sogar noch einen drauf und haben dieses Mal gleich fünf sagenhafte Bands im Gepäck\, die jedes Festivalherz höher schlagen lassen und allerbeste Laune in die Schlossberghalle Wehingen bringen. \n\n\n\nLos gehts ab 15:00 Uhr. Zum Fassanstich holt euch die Heuberger Schlossberg-Musi mit zünftiger Wirtshausmusik ab – da kommt garantiert Bierlaune auf. \n\n\n\nZum zweiten Mal dürfen wir im Anschluss unsere guten Freunde der Plettenberg Stammtischmusig begrüßen. Wer beim letzten Mal dabei war weiß: Die sechs Musiker sorgen für super Stimmung und bringen die Halle zum Kochen. \n\n\n\nAls Headliner des Heuberg Brass Festivals spielt am frühen Abend Viera Blech für euch. Die österreichische Formation ist seit über zwanzig Jahren eine echte Größe der Blasmusikszene und wird jeden eingefleischten Fan begeistern. \n\n\n\nIm Anschluss dürft ihr euch auf 5er Blech freuen. Sängerin Isabell und ihre fünf Jungs aus dem Allgäu erobern mit ihrem einzigartigen und abwechslungsreichen Stil die Bühne. \n\n\n\nEine bombastische Blasmusikparty versprechen euch die Musiker von Ob8blech. Sie bringen die Boxen ans Limit und die Halle bis spät in die Nacht zum Beben und sorgen so für einen unvergesslichen Abschluss des Heuberg Brass Festivals. \n\n\n\nWir freuen uns auf euch! Euer MVW ❤️ \n\n\n\nWeitere Infos gibt’s unter: www.heuberg-brass-festival.de \n\n\n\n\nFrühbucher-Preis: 27\,00 € (bis 31.10.2024)Vorverkaufspreis: 29\,00 €Abendkasse: 31\,00 €Freie PlatzwahlSaalöffnung: 15:00 Uhr \n\n\n\n\n\nTicket-Vorverkauf online\, bei den aktiven Musikern des Musikvereins Wehingen\, bei der Tankstelle Walz Wehingen und im Wehinger Rathaus (Kulturamt) während der Öffnungszeiten.
URL:https://www.schlossberghalle.de/event/heuberg-brass-festival-2025/
LOCATION:Schlossberghalle\, Wörthstraße 33\, Wehingen\, 78564\, Germany
CATEGORIES:Blasmusikkonzert,Konzert,Tickets,Vereinsfest
ATTACH;FMTTYPE=image/jpeg:https://www.schlossberghalle.de/wp-content/uploads/2024/08/hbf_banner.jpg
ORGANIZER;CN="Musikverein Wehingen 1839 e.V.":MAILTO:info@mvwehingen.de
END:VEVENT
BEGIN:VEVENT
DTSTART;TZID=Europe/Berlin:20250426T200000
DTEND;TZID=Europe/Berlin:20250426T230000
DTSTAMP:20260424T112607
CREATED:20241201T141024Z
LAST-MODIFIED:20250409T123921Z
UID:3157-1745697600-1745708400@www.schlossberghalle.de
SUMMARY:AcaBellas - Besser wird's nemme
DESCRIPTION:VORANKÜNDIGUNG\n\n\n\n\n\n\n\n\n\n\n\n\nwww.acabellas.de\n\n\n\nAcaBellas auf Instragram\n\n\n\nAcaBellas auf Facebook\n\n\n\n\n\n\n\n\n\n\n\n\n\n\n\n\n\n\nAcaBellas: Eine Selektion feinster Powerfrauen präsentiert ein stimmgewaltiges\, verrücktes\, emotionales und zum Schießen komisches Programm aus Gesang\, Musikkabarett und Stand-up Comedy: Besser wird’s nemme!  \n\n\n\nAnstatt Prosecco nippend auf der Bühne zu stehen\, brennt das literweise Sekt wegkippende Ensemble die Bühne nieder. Gutes Gehör wird mit 5-stimmigem Chorgesang belohnt\, gute Augen hingegen mit schrillen Outfits und irrwitzigen Choreografien. Wer über beides verfügt: Jackpot! \n\n\n\nDie innige Freundschaft untereinander ist deutlich spürbar. Ihr oberstes Credo ist\, seinem Publikum herrlich unbeschwerte Stunden zu bescheren\, auch wenn die Welt außerhalb des Konzertsaales tobt. Und wer den Mut hat\, sich in die erste Reihe zu setzen\, wird nicht selten mit einem Gläsle Sekt belohnt. \n\n\n\n\n\n\n\n\n\n\n\n\n\n\nTicket-Vorverkauf online und im Wehinger Rathaus (Kulturamt) während der Öffnungszeiten. \n\n\n\n\n\n\n\n\n\n\n\nVorverkaufspreis: 29\,00 €Abendkasse: 33\,00 €Freie PlatzwahlEinlass: 18:30 Uhr
URL:https://www.schlossberghalle.de/event/acabellas-besser-wirds-nemme/
LOCATION:Schlossberghalle\, Wörthstraße 33\, Wehingen\, 78564\, Germany
CATEGORIES:Comedyshow,Kabarett,Konzert,Show
ATTACH;FMTTYPE=image/jpeg:https://www.schlossberghalle.de/wp-content/uploads/2024/12/ticket_banner_acabellas2.jpg
ORGANIZER;CN="Fanfarenzug Wehingen":MAILTO:tickets@fzwehingen.de
END:VEVENT
END:VCALENDAR